BEGIN:VCALENDAR
VERSION:2.0
PRODID:2.ª Corrida da Primavera
X-WR-CALNAME:2.ª Corrida da Primavera
X-WR-TIMEZONE:Europe/Lisbon
X-PUBLISHED-TTL:P1W
BEGIN:VTIMEZONE
TZID:Europe/Lisbon
X-LIC-LOCATION:Europe/Lisbon
END:VTIMEZONE
BEGIN:VEVENT
UID:69ec2c440f504
DTSTART;VALUE=DATE:20260321
SEQUENCE:0
TRANSP:OPAQUE
DTEND;VALUE=DATE:20260322
SUMMARY:2.ª Corrida da Primavera
CLASS:PUBLIC
DESCRIPTION:No ano em que Guimarães assume o título de Capital Verde Euro
 peia 2026\, a Corrida da Primavera está de regresso para a sua 2.ª ediç
 ão\, integrada na Festa da Primavera 2026\, que volta a realizar-se na Mo
 ntanha da Penha\, em Guimarães. A iniciativa\, promovida pelo Laboratóri
 o da Paisagem com o apoio do Município de Guimarães\, celebra a chegada 
 da nova estação através do desporto\, da natureza e da sustentabilidade
 \, reforçando a ligação entre atividade física e valorização do terr
 itório.Depois do sucesso da primeira edição\, em 2025 – com inscriç
 ões esgotadas e forte envolvimento da comunidade – o evento regressa em
  março com um programa alargado para diferentes perfis de participação.
 No domingo\, 22 de março\, realiza-se a prova principal\, a Corrida da Pr
 imavera\, com partida e chegada na Pista de Atletismo Gémeos Castro. O pe
 rcurso atravessa alguns locais como a Horta Pedagógica\, a Veiga de Creix
 omil e o Caminho Real\, num traçado pensado para dar a conhecer a paisage
 m e o património natural de Guimarães. Além da prova de 10 km\, há ain
 da uma corrida de 5 km e uma caminhada solidária\, promovendo a participa
 ção de famílias e de participantes de todas as idades.Na véspera\, sá
 bado\, decorre mais uma edição do Desafio Vertical\, desafio que percorr
 e os trilhos da Rota da Biodiversidade da Penha\, proporcionando uma exper
 iência desportiva em plena natureza.Em 2026\, a organização reforça a 
 aposta na sustentabilidade\, apelando aos atletas para reutilizarem a cami
 sola da edição anterior. Ainda assim\, quem pretender poderá adquirir a
  camisola oficial deste ano\, mediante um custo adicional.As inscrições 
 já estão abertas e podem ser efetuadas em:&nbsp\;https://sinctime.com/ev
 ento/436            Publicada a 3 de Fevereiro\, 2026In:Guimarães\, Capit
 al Verde Europeia 2026\, corre pela natureza na 2.ª Corrida da Primavera 
 - Laboratório da Paisagem
X-MICROSOFT-CDO-ALLDAYEVENT:TRUE
DTSTAMP:20260425T025148Z
END:VEVENT
END:VCALENDAR